BEGIN:VCALENDAR
VERSION:2.0
PRODID:-//Centenaire Frantz Fanon - ECPv6.10.0//NONSGML v1.0//EN
CALSCALE:GREGORIAN
METHOD:PUBLISH
X-WR-CALNAME:Centenaire Frantz Fanon
X-ORIGINAL-URL:https://centenaire.fondation-frantzfanon.com
X-WR-CALDESC:Évènements pour Centenaire Frantz Fanon
REFRESH-INTERVAL;VALUE=DURATION:PT1H
X-Robots-Tag:noindex
X-PUBLISHED-TTL:PT1H
BEGIN:VTIMEZONE
TZID:Europe/Paris
BEGIN:DAYLIGHT
TZOFFSETFROM:+0100
TZOFFSETTO:+0200
TZNAME:CEST
DTSTART:20250330T010000
END:DAYLIGHT
BEGIN:STANDARD
TZOFFSETFROM:+0200
TZOFFSETTO:+0100
TZNAME:CET
DTSTART:20251026T010000
END:STANDARD
END:VTIMEZONE
BEGIN:VEVENT
DTSTART;TZID=Europe/Paris:20251117T080000
DTEND;TZID=Europe/Paris:20251122T170000
DTSTAMP:20260424T060000
CREATED:20250719T132304Z
LAST-MODIFIED:20251119T005404Z
UID:10003329-1763366400-1763830800@centenaire.fondation-frantzfanon.com
SUMMARY:Festa Literária das Periferias (FLUPP) "Honoring Fanon"
DESCRIPTION:
URL:https://centenaire.fondation-frantzfanon.com/evenement/festa-literaria-das-periferias-flupp-honoring-fanon/
LOCATION:Rio de Janeiro
END:VEVENT
BEGIN:VEVENT
DTSTART;VALUE=DATE:20251119
DTEND;VALUE=DATE:20251120
DTSTAMP:20260424T060000
CREATED:20251105T164321Z
LAST-MODIFIED:20251105T164321Z
UID:10003336-1763510400-1763596799@centenaire.fondation-frantzfanon.com
SUMMARY:Événements au Brésil de commémoration du centenaire de Frantz Fanon
DESCRIPTION:Ouverture du Fête littéraire des périphéries (FLUP)\, qui se tiendra au viaduc de Madureira\, en présence de l’écrivain Conceição Evaristo (qui reçoit l’hommage du laFLUP cette année) et de Mireille Fanon Mendès-France. Ce sera aussi l’occasion du vernissage de l’exposition consacrée à Frantz Fanon. À Salvador
URL:https://centenaire.fondation-frantzfanon.com/evenement/evenements-au-bresil-de-commemoration-du-centenaire-de-frantz-fanon/
LOCATION:Rio de Janeiro
END:VEVENT
END:VCALENDAR