BEGIN:VCALENDAR
VERSION:2.0
PRODID:-//Centenaire Frantz Fanon - ECPv6.10.0//NONSGML v1.0//EN
CALSCALE:GREGORIAN
METHOD:PUBLISH
X-WR-CALNAME:Centenaire Frantz Fanon
X-ORIGINAL-URL:https://centenaire.fondation-frantzfanon.com
X-WR-CALDESC:Évènements pour Centenaire Frantz Fanon
REFRESH-INTERVAL;VALUE=DURATION:PT1H
X-Robots-Tag:noindex
X-PUBLISHED-TTL:PT1H
BEGIN:VTIMEZONE
TZID:Europe/Paris
BEGIN:DAYLIGHT
TZOFFSETFROM:+0100
TZOFFSETTO:+0200
TZNAME:CEST
DTSTART:20250330T010000
END:DAYLIGHT
BEGIN:STANDARD
TZOFFSETFROM:+0200
TZOFFSETTO:+0100
TZNAME:CET
DTSTART:20251026T010000
END:STANDARD
END:VTIMEZONE
BEGIN:VEVENT
DTSTART;VALUE=DATE:20251217
DTEND;VALUE=DATE:20251223
DTSTAMP:20260423T210332
CREATED:20241108T110234Z
LAST-MODIFIED:20251228T163151Z
UID:10000002-1765929600-1766447999@centenaire.fondation-frantzfanon.com
SUMMARY:Colloque international « Franon\, l’espérance africaine » (Clôture de l’année du centenaire Fanon\, Dakar\, Musée des civilisations noires)
DESCRIPTION:
URL:https://centenaire.fondation-frantzfanon.com/evenement/fanon-lesperance-africaine/
LOCATION:Musée des civilisations noires\, Dakar
ATTACH;FMTTYPE=image/jpeg:https://centenaire.fondation-frantzfanon.com/wp-content/uploads/2024/11/1.jpg
END:VEVENT
BEGIN:VEVENT
DTSTART;VALUE=DATE:20251211
DTEND;VALUE=DATE:20251213
DTSTAMP:20260423T210332
CREATED:20251204T134547Z
LAST-MODIFIED:20251228T163253Z
UID:10003346-1765411200-1765583999@centenaire.fondation-frantzfanon.com
SUMMARY:Reflections on the Contemporary - A Conference Commemorating Frantz Fanon
DESCRIPTION:
URL:https://centenaire.fondation-frantzfanon.com/evenement/reflections-on-the-contemporary-a-conference-commemorating-frantz-fanon/
ATTACH;FMTTYPE=image/jpeg:https://centenaire.fondation-frantzfanon.com/wp-content/uploads/2025/12/100YearsFanonPosters-glissees.jpg
END:VEVENT
BEGIN:VEVENT
DTSTART;TZID=Europe/Paris:20251126T103000
DTEND;TZID=Europe/Paris:20251126T123000
DTSTAMP:20260423T210332
CREATED:20251122T233215Z
LAST-MODIFIED:20251228T163333Z
UID:10003344-1764153000-1764160200@centenaire.fondation-frantzfanon.com
SUMMARY:Conférence du Centenaire de Frantz Fanon - Réparations pour impulser de nouveaux paradigmes d'une démocratie plus inclusive et égalitaire"
DESCRIPTION:
URL:https://centenaire.fondation-frantzfanon.com/evenement/conference-du-centenaire-de-frantz-fanon-reparations-pour-impulser-de-nouveaux-paradigmes-dune-democratie-plus-inclusive-et-egalitaire/
LOCATION:Rio de Janeiro
ATTACH;FMTTYPE=image/jpeg:https://centenaire.fondation-frantzfanon.com/wp-content/uploads/2025/11/WhatsApp-Image-2025-11-23-at-00.04.51.jpeg
END:VEVENT
BEGIN:VEVENT
DTSTART;VALUE=DATE:20251124
DTEND;VALUE=DATE:20251125
DTSTAMP:20260423T210332
CREATED:20251125T230407Z
LAST-MODIFIED:20251228T163414Z
UID:10003345-1763942400-1764028799@centenaire.fondation-frantzfanon.com
SUMMARY:Rencontre dans le local de Camp escola do bem viver mulheres em rede
DESCRIPTION:
URL:https://centenaire.fondation-frantzfanon.com/evenement/rencontre-dans-le-local-de-camp-escola-do-bem-viver-mulheres-em-rede/
LOCATION:Porto Alegre
ATTACH;FMTTYPE=image/jpeg:https://centenaire.fondation-frantzfanon.com/wp-content/uploads/2025/11/2fba19f3-2223-4721-80e2-eb78216123da.jpeg
END:VEVENT
BEGIN:VEVENT
DTSTART;VALUE=DATE:20251124
DTEND;VALUE=DATE:20251125
DTSTAMP:20260423T210332
CREATED:20251105T163417Z
LAST-MODIFIED:20251228T163603Z
UID:10003335-1763942400-1764028799@centenaire.fondation-frantzfanon.com
SUMMARY:24/11 - Centenario de Frantz Fanon por uma luta anticolonial
DESCRIPTION:Journée du 24 novembre à Porto Alegre \nMatin : Table ronde avec Mireille Fanon\, Samia El Khalfaoui\, des parlementaires et des représentants de mouvements sociaux du Rio Grande do Sul sur le thème « Centenaire de Frantz Fanon : Pour une lutte anticoloniale ». L’évenement se déroulera dans l’auditorium d’architecture de l’UFRGS. \nAprès-midi : après une présentation artistique et culturelle de Nina Fola\, un dialogue s’instaurera entre Mireille Fanon et Deivison Faustino (USP)\, facilité et coordonné par le professeur Handerson Joseph (PPGAS-UFRGS) du programme de troisième cycle en anthropologie de l’Université fédérale de Rio Grande do Sul (UFRGS).
URL:https://centenaire.fondation-frantzfanon.com/evenement/centenario-de-frantz-fanon-por-uma-luta-anticolonial/
LOCATION:Auditorio de Arquitetura da UFRGS\, Campus Centro R. Sarmento Leite\, 320\, Porto Alegre
ATTACH;FMTTYPE=image/jpeg:https://centenaire.fondation-frantzfanon.com/wp-content/uploads/2025/11/1.jpeg
END:VEVENT
BEGIN:VEVENT
DTSTART;VALUE=DATE:20251121
DTEND;VALUE=DATE:20251122
DTSTAMP:20260423T210332
CREATED:20251105T164744Z
LAST-MODIFIED:20251118T150959Z
UID:10003338-1763683200-1763769599@centenaire.fondation-frantzfanon.com
SUMMARY:Conférence bahianaise de célébration du centenaire de Frantz Fanon
DESCRIPTION:Conférence bahianaise de célébration du centenaire de Frantz Fanon dans le Salon Noble du Rectorat de l’UFBA (quartier de Canela à Salvador) de 10h à 13h. Des représentants des mouvements de défense des droits des Noirs et des droits humains\, ainsi que des universitaires spécialistes de Frantz Fanon\, de la décolonialité et du panafricanisme\, prendront la parole pour souligner l’importance de la pensée de Frantz Fanon comme héritage pour les luttes du monde contemporain. La conférence inaugurale sera donnée par Mireille Fanon Mendès-France (Fondation Frantz Fanon)\, et plusieurs intervenants prendront également la parole\, notamment : Gilberto Leal (membre du conseil d’administration de CONEN)\, Jamile Borges (directrice du CEAO – Centre d’études afro-orientales de l’UFBA)\, Jesiel Oliveira (professeure à l’UFBA) et Samia El Khalfaoui (SAVE\, Fondation Frantz Fanon).
URL:https://centenaire.fondation-frantzfanon.com/evenement/conference-bahianaise-de-celebration-du-centenaire-de-frantz-fanon/
LOCATION:Salvador de Bahia\, Campo Grande
END:VEVENT
BEGIN:VEVENT
DTSTART;VALUE=DATE:20251120
DTEND;VALUE=DATE:20251121
DTSTAMP:20260423T210332
CREATED:20251105T164601Z
LAST-MODIFIED:20251228T163710Z
UID:10003337-1763596800-1763683199@centenaire.fondation-frantzfanon.com
SUMMARY:Marche du Jour de la Conscience Noire au Brésil
DESCRIPTION:Marche de la Conscience Noire en hommage au centenaire de la naissance de Frantz Fanon et au 90ème anniversaire de la naissance de Lélia Gonzales. Le rassemblement est prévu à 14 h à Campo Grande (centre de Salvador)\, devant le Théâtre Castro Alves.
URL:https://centenaire.fondation-frantzfanon.com/evenement/marche-du-jour-de-la-conscience-noire-au-bresil/
LOCATION:Salvador de Bahia\, Campo Grande
ATTACH;FMTTYPE=image/jpeg:https://centenaire.fondation-frantzfanon.com/wp-content/uploads/2025/11/WhatsApp-Image-2025-11-18-at-15.58.38.jpeg
END:VEVENT
BEGIN:VEVENT
DTSTART;VALUE=DATE:20251119
DTEND;VALUE=DATE:20251120
DTSTAMP:20260423T210332
CREATED:20251105T164321Z
LAST-MODIFIED:20251105T164321Z
UID:10003336-1763510400-1763596799@centenaire.fondation-frantzfanon.com
SUMMARY:Événements au Brésil de commémoration du centenaire de Frantz Fanon
DESCRIPTION:Ouverture du Fête littéraire des périphéries (FLUP)\, qui se tiendra au viaduc de Madureira\, en présence de l’écrivain Conceição Evaristo (qui reçoit l’hommage du laFLUP cette année) et de Mireille Fanon Mendès-France. Ce sera aussi l’occasion du vernissage de l’exposition consacrée à Frantz Fanon. À Salvador
URL:https://centenaire.fondation-frantzfanon.com/evenement/evenements-au-bresil-de-commemoration-du-centenaire-de-frantz-fanon/
LOCATION:Rio de Janeiro
END:VEVENT
BEGIN:VEVENT
DTSTART;TZID=Europe/Paris:20251117T080000
DTEND;TZID=Europe/Paris:20251122T170000
DTSTAMP:20260423T210332
CREATED:20250719T132304Z
LAST-MODIFIED:20251119T005404Z
UID:10003329-1763366400-1763830800@centenaire.fondation-frantzfanon.com
SUMMARY:Festa Literária das Periferias (FLUPP) "Honoring Fanon"
DESCRIPTION:
URL:https://centenaire.fondation-frantzfanon.com/evenement/festa-literaria-das-periferias-flupp-honoring-fanon/
LOCATION:Rio de Janeiro
END:VEVENT
BEGIN:VEVENT
DTSTART;TZID=Europe/Paris:20251112T153000
DTEND;TZID=Europe/Paris:20251112T170000
DTSTAMP:20260423T210332
CREATED:20251113T125311Z
LAST-MODIFIED:20251228T164025Z
UID:10003343-1762961400-1762966800@centenaire.fondation-frantzfanon.com
SUMMARY:Conférence Reparations Now - Berlin
DESCRIPTION:
URL:https://centenaire.fondation-frantzfanon.com/evenement/conference-reparations-now-berlin/
LOCATION:Berlin Global Village
ATTACH;FMTTYPE=image/jpeg:https://centenaire.fondation-frantzfanon.com/wp-content/uploads/2025/11/499033d4-739a-415d-81fb-48c80d882455.jpeg
END:VEVENT
BEGIN:VEVENT
DTSTART;TZID=Europe/Paris:20251111T140000
DTEND;TZID=Europe/Paris:20251111T170000
DTSTAMP:20260423T210332
CREATED:20251105T161844Z
LAST-MODIFIED:20251105T161844Z
UID:10003334-1762869600-1762880400@centenaire.fondation-frantzfanon.com
SUMMARY:Paris 11 novembre : Manifestation nationale pour la Paix\, Contre les guerres impérialistes de l’UE-OTAN et l’économie de guerre de Macron
DESCRIPTION:La Fondation soutient l’appel à la Marche pour la Paix (11 novembre). Il ne s’agit pas de commémorer les armistices des guerres impérialistes européennes\, il s’agit de se lever pour manifester notre opposition politique à l’impérialisme génocidaire. La colonisation du monde n’a jamais cessé. La Fondation Frantz Fanon appelle à ne jamais cesser de traquer tous les éléments de la colonialité du pouvoir justifiant toutes les guerres contre les peuples et leurs droits inaliénables.
URL:https://centenaire.fondation-frantzfanon.com/evenement/paris-11-novembre-manifestation-nationale-pour-la-paix-contre-les-guerres-imperialistes-de-lue-otan-et-leconomie-de-guerre-de-macron/
LOCATION:Port-Royal
END:VEVENT
BEGIN:VEVENT
DTSTART;TZID=Europe/Paris:20251109T180000
DTEND;TZID=Europe/Paris:20251109T193000
DTSTAMP:20260423T210332
CREATED:20251106T161939Z
LAST-MODIFIED:20251106T161939Z
UID:10003342-1762711200-1762716600@centenaire.fondation-frantzfanon.com
SUMMARY:Haïti\, Palestine... la lutte continue !
DESCRIPTION:
URL:https://centenaire.fondation-frantzfanon.com/evenement/haiti-palestine-la-lutte-continue/
LOCATION:Espace Ubiznews\, 12 rue Charles Fourier\, Paris 75013\, Métro 7 Tolbiac
END:VEVENT
BEGIN:VEVENT
DTSTART;TZID=Europe/Paris:20251109T133000
DTEND;TZID=Europe/Paris:20251109T173000
DTSTAMP:20260423T210332
CREATED:20251105T161025Z
LAST-MODIFIED:20251105T161025Z
UID:10003333-1762695000-1762709400@centenaire.fondation-frantzfanon.com
SUMMARY:Démanteler les économies coloniales : des Outre-mer au reste du monde
DESCRIPTION:Venez explorer les rouages du plus grand empire économique des Outre-mer\, le Groupe Bernard Hayot (GBH)\, grâce à une présentation publique de nos outils d’enquête participatifs. Cette séquence sera suivie de regards croisés entre expert⸱es et militant⸱es pour nous inspirer à démanteler les économies coloniales\, des Outre-mer au reste du monde. Organisons-nous pour agir ensemble et partout ! \n\n\n\n\n13h30 : Ouverture des portes\n\nMot d’introduction\n\n\n14h : Présentation du rapport et des outils “Désarmer GBH” \n\nArpentage collectif avec Vous n’êtes pas seuls (VNPS) et l’Observatoire Terre Monde (OTM)\n\n\n15h30 : Croisement des luttes et partage des modes d’actions\n\nMireille Fanon\, co-présidente de la Fondation Frantz Fanon\nChristian Fizin\,  vice-président du Mouvement Kanak en France\nChristophe Girardier\, président de Bolonyocte Consulting\nLoïc Fournil\, membre de Stop Arming Israël France\nLilith\, membre du Collectif des Ouvrier⸱ères Agricoles Empoisonné⸱es par les Pesticides (COAADEP)\nJane-Léonie Bellay\, membre du bureau national d’Attac France\n\n\n17h : Temps d’échange et clôture
URL:https://centenaire.fondation-frantzfanon.com/evenement/demanteler-les-economies-coloniales-des-outre-mer-au-reste-du-monde/
LOCATION:Locaux de l’Union syndicale Solidaires\, 31 rue de la Grange aux Belles\, 75010 Paris
END:VEVENT
BEGIN:VEVENT
DTSTART;TZID=Europe/Paris:20251108T140000
DTEND;TZID=Europe/Paris:20251108T150000
DTSTAMP:20260423T210332
CREATED:20251106T161819Z
LAST-MODIFIED:20251106T161819Z
UID:10003341-1762610400-1762614000@centenaire.fondation-frantzfanon.com
SUMMARY:Table ronde : Les centenaires révolutionnaires (Fanon\, Lumumba\, Malcolm X)
DESCRIPTION:
URL:https://centenaire.fondation-frantzfanon.com/evenement/table-ronde-les-centenaires-revolutionnaires-fanon-lumumba-malcolm-x/
LOCATION:Espace Ubiznews\, 12 rue Charles Fourier\, Paris 75013\, Métro 7 Tolbiac
END:VEVENT
BEGIN:VEVENT
DTSTART;TZID=Europe/Paris:20251107T170000
DTEND;TZID=Europe/Paris:20251107T193000
DTSTAMP:20260423T210332
CREATED:20251106T155420Z
LAST-MODIFIED:20251106T155420Z
UID:10003340-1762534800-1762543800@centenaire.fondation-frantzfanon.com
SUMMARY:Débat : Quel internationalisme aujourd'hui ?
DESCRIPTION:Pour un internationalisme par le bas qui défende les intérêts des peuples et non ceux des États. Pour un internationalisme qui promeuve la solidarité et l’entraide entre celles et ceux qui sont en lutte contre le colonialisme et les impérialismes. Contre tous les campismes\, contre Trump\, Poutine\, Netanyahou. Nous sommes avec la Génération Z qui se soulève d’Afrique en Asie\, de Serbie au Pérou. Nous sommes avec le peuple kanak et pour l’indépendance de toutes les colonies contre. \nAvec des militants congolais\, kurde (CDKF Centre Démocratique Kurde de France)\, des représentants  de  Stop Arming Israël\, « les Peuples Veulent »\, Mireille Fanon Présidente de la Fondation Frantz Fanon\,  Daniel Kuanene Wea  Président du Mouvement Kanak en France\, Bernard Dréano (RESU réseau de solidarité avec l’Ukraine et Cedetim) \, Daniel Lartichaux-Ullman de l’UJFP\, Augusta Epanaya Dynamique Unitaire Panafricaine\, Sanadjah AkroufAPPEL Egalité (Algérie)\, … animé par Patrick Farbiaz\, cofondateur de PEPS. Une déclaration commune sur la situation dans les Caraïbes et l’Amérique du Sud de militants haïtien\, dominicain\, uruguayen sera présentée.
URL:https://centenaire.fondation-frantzfanon.com/evenement/debat-quel-internationalisme-aujourdhui/
LOCATION:Baranoux\, 78\, rue Compans\, 75019\, Paris (métro Place des fêtes)
END:VEVENT
BEGIN:VEVENT
DTSTART;TZID=Europe/Paris:20251020T220000
DTEND;TZID=Europe/Paris:20251021T000000
DTSTAMP:20260423T210332
CREATED:20251020T165221Z
LAST-MODIFIED:20251020T165221Z
UID:10003332-1760997600-1761004800@centenaire.fondation-frantzfanon.com
SUMMARY:Empire\, solidarity & academia at the cross roads
DESCRIPTION:
URL:https://centenaire.fondation-frantzfanon.com/evenement/empire-solidarity-academia-at-the-cross-roads/
LOCATION:UC Berkeley
END:VEVENT
BEGIN:VEVENT
DTSTART;TZID=Europe/Paris:20251008T190000
DTEND;TZID=Europe/Paris:20251008T210000
DTSTAMP:20260423T210332
CREATED:20250929T123452Z
LAST-MODIFIED:20250929T123452Z
UID:10003331-1759950000-1759957200@centenaire.fondation-frantzfanon.com
SUMMARY:Frantz Fanon - Décolonialisme - Hier et aujourd’hui
DESCRIPTION:
URL:https://centenaire.fondation-frantzfanon.com/evenement/frantz-fanon-decolonialisme-hier-et-aujourdhui/
END:VEVENT
BEGIN:VEVENT
DTSTART;TZID=Europe/Paris:20251003T080000
DTEND;TZID=Europe/Paris:20251004T170000
DTSTAMP:20260423T210332
CREATED:20250719T131057Z
LAST-MODIFIED:20250719T131421Z
UID:10003328-1759478400-1759597200@centenaire.fondation-frantzfanon.com
SUMMARY:Centenaire Frantz Fanon Vienne
DESCRIPTION:Organisé par l’Institute for Politics and Culture.
URL:https://centenaire.fondation-frantzfanon.com/evenement/centenaire-frantz-fanon-vienne/
END:VEVENT
BEGIN:VEVENT
DTSTART;TZID=Europe/Paris:20250917T080000
DTEND;TZID=Europe/Paris:20250919T170000
DTSTAMP:20260423T210332
CREATED:20250719T130554Z
LAST-MODIFIED:20250719T130554Z
UID:10003327-1758096000-1758301200@centenaire.fondation-frantzfanon.com
SUMMARY:Centenario Frantz Fanon
DESCRIPTION:
URL:https://centenaire.fondation-frantzfanon.com/evenement/centenario-frantz-fanon/
LOCATION:San José\, Costa Rica
END:VEVENT
BEGIN:VEVENT
DTSTART;TZID=Europe/Paris:20250826T080000
DTEND;TZID=Europe/Paris:20250827T170000
DTSTAMP:20260423T210332
CREATED:20250719T133258Z
LAST-MODIFIED:20250719T133258Z
UID:10003330-1756195200-1756314000@centenaire.fondation-frantzfanon.com
SUMMARY:Intervention Fondation lors de l'Université d'été du NPA
DESCRIPTION:
URL:https://centenaire.fondation-frantzfanon.com/evenement/intervention-fondation-lors-de-luniversite-dete-du-npa/
END:VEVENT
BEGIN:VEVENT
DTSTART;VALUE=DATE:20250821
DTEND;VALUE=DATE:20250825
DTSTAMP:20260423T210332
CREATED:20241202T111306Z
LAST-MODIFIED:20250719T130703Z
UID:10000013-1755734400-1756079999@centenaire.fondation-frantzfanon.com
SUMMARY:"Black August 2025: Finding Our Mission and Fulfilling It" / Rencontre : 20 ans après Katrina
DESCRIPTION:Rencontre organisée à l’occasion de l’anniversaire du passage de l’ouragan Katrina (29 août)\, avec l’organisation Cooperation Jackson ; ce sera aussi l’occasion de rencontrer et de travailler pendant une semaine avec des organisations de terrain.
URL:https://centenaire.fondation-frantzfanon.com/evenement/cooperation-jackson/
LOCATION:Cooperation Jackson\, 939 W Capitol St\, Jackson\, United States
END:VEVENT
BEGIN:VEVENT
DTSTART;TZID=Europe/Paris:20250731T080000
DTEND;TZID=Europe/Paris:20250731T170000
DTSTAMP:20260423T210332
CREATED:20250330T202910Z
LAST-MODIFIED:20250719T130030Z
UID:10003324-1753948800-1753981200@centenaire.fondation-frantzfanon.com
SUMMARY:Decolonial Winter school
DESCRIPTION:Decolonial Winter school
URL:https://centenaire.fondation-frantzfanon.com/evenement/decolonial-winter-school/
LOCATION:Soweto\, Soweto\, South Africa
END:VEVENT
BEGIN:VEVENT
DTSTART;TZID=Europe/Paris:20250715T080000
DTEND;TZID=Europe/Paris:20250721T170000
DTSTAMP:20260423T210332
CREATED:20241202T110731Z
LAST-MODIFIED:20250330T202712Z
UID:10000012-1752566400-1753117200@centenaire.fondation-frantzfanon.com
SUMMARY:Conférence : Anticolonialisme\, Décolonialité du Pouvoir dans l'espace Caribéen
DESCRIPTION:La pensée décoloniale de Frantz Fanon à l’épreuve de la colonisation française en Martinique\, Guadeloupe\, la Guyane et la Kanaky »\, Plénière organisée par la Fondation Frantz Fanon dans le cadre de la conférence annuelle de l’Association caribéenne de Philosophie  » Fanon a cent ans » \nRéalisée dans le cadre de l’Association caribéenne de philosophie -CPA- qui depuis quelques années vise à réfléchir sur « Changer la géographie de la raison »
URL:https://centenaire.fondation-frantzfanon.com/evenement/conference-fanon-a-cent-ans/
LOCATION:Le François\, Le François\, 97210\, Martinique
END:VEVENT
BEGIN:VEVENT
DTSTART;TZID=Europe/Paris:20250712T080000
DTEND;TZID=Europe/Paris:20250712T170000
DTSTAMP:20260423T210332
CREATED:20250103T085819Z
LAST-MODIFIED:20250330T202415Z
UID:10003317-1752307200-1752339600@centenaire.fondation-frantzfanon.com
SUMMARY:Colloque international : Frantz Fanon\, penseur radical de la désaliénation
DESCRIPTION:Colloque international : Frantz Fanon\, penseur radical de la désaliénation co-organisé par Plateforme Haïtienne de Plaidoyer pour un Développement Alternatif (PAPDA) & Fondation Frantz Fanon.
URL:https://centenaire.fondation-frantzfanon.com/evenement/colloque-international-frantz-fanon-penseur-radical-de-la-desalienation/
LOCATION:Port-au-Prince\, Haiti
END:VEVENT
BEGIN:VEVENT
DTSTART;TZID=Europe/Paris:20250705T000000
DTEND;TZID=Europe/Paris:20250705T235900
DTSTAMP:20260423T210332
CREATED:20250330T202109Z
LAST-MODIFIED:20250330T202309Z
UID:10001682-1751673600-1751759940@centenaire.fondation-frantzfanon.com
SUMMARY:"Redécouvrir Fanon"
DESCRIPTION:Auditorium de l’Hôtel de Ville de Paris accueille Frantz Fanon. Lors de cette journée auront lieu des tables rondes\, des projections de films et des performances artistiques. Ce sera l’occasion d’aborder l’impact de la pensée de Frantz Fanon sur les luttes décoloniales contemporaines et de favoriser des échanges culturels et des réflexions créatives.
URL:https://centenaire.fondation-frantzfanon.com/evenement/accueillir-fanon-2/
LOCATION:Auditorium de l’Hôtel de Ville de Paris\, Paris\, France
END:VEVENT
BEGIN:VEVENT
DTSTART;TZID=Europe/Paris:20250628T080000
DTEND;TZID=Europe/Paris:20250630T170000
DTSTAMP:20260423T210332
CREATED:20250330T201843Z
LAST-MODIFIED:20250330T201843Z
UID:10003323-1751097600-1751302800@centenaire.fondation-frantzfanon.com
SUMMARY:"Fanon\, 100 ans et le fascisme international"
DESCRIPTION:co-organisé avec le Centre Lusta Mundi et la Fondation Frantz Fanon. « Fanon\, 100 ans et le fascisme international »
URL:https://centenaire.fondation-frantzfanon.com/evenement/fanon-100-ans-et-le-fascisme-international/
LOCATION:Naples\, Naples\, Italy
END:VEVENT
BEGIN:VEVENT
DTSTART;TZID=Europe/Paris:20250626T163000
DTEND;TZID=Europe/Paris:20250626T190000
DTSTAMP:20260423T210332
CREATED:20250619T111935Z
LAST-MODIFIED:20250619T112545Z
UID:10003326-1750955400-1750964400@centenaire.fondation-frantzfanon.com
SUMMARY:« L'œuvre de Frantz Fanon comme généalogie du présent »
DESCRIPTION:Mireille Fanon Mendés-France en dialogue avec Miguel Mellino \nAlessia J. Magliacane et Gina Annunziata interviennent \nEn collaboration avec Juju Entertainment par Alessia J. Magliacane \n 
URL:https://centenaire.fondation-frantzfanon.com/evenement/lopera-di-frantz-fanon-come-genealogia-del-presente/
LOCATION:Naples\, Naples\, Italy
END:VEVENT
BEGIN:VEVENT
DTSTART;TZID=Europe/Paris:20250602T170000
DTEND;TZID=Europe/Paris:20250602T190000
DTSTAMP:20260423T210332
CREATED:20241205T094050Z
LAST-MODIFIED:20241221T152923Z
UID:10000017-1748883600-1748890800@centenaire.fondation-frantzfanon.com
SUMMARY:Conférence : "Que doivent-ils à Frantz Fanon?"
DESCRIPTION: » Que doivent-ils à Frantz Fanon? ». Des chercheurs et des cliniciens seront sollicités pour répondre à cette question. Cette séance sera introduite et animée par Marie Rose Moro\, Professeure de psychiatrie de l’enfant et de l’adolescent à l’université de Paris Cité.
URL:https://centenaire.fondation-frantzfanon.com/evenement/conference-que-doivent-ils-a-frantz-fanon/
LOCATION:Maison de Solenn\, 97 boulevard du port royal\, Paris\, 75014\, France
END:VEVENT
BEGIN:VEVENT
DTSTART;VALUE=DATE:20250601
DTEND;VALUE=DATE:20250701
DTSTAMP:20260423T210332
CREATED:20241205T094351Z
LAST-MODIFIED:20241221T153453Z
UID:10000018-1748736000-1751327999@centenaire.fondation-frantzfanon.com
SUMMARY:Conférence : « Fanon et les territoires colonisés de la République française »
DESCRIPTION:Il s’agit d’aborder l’héritage de Fanon à travers les réalités contemporaines des territoires français encore marqués par le colonialisme et de mettre en perspective des questions telles que la répression\, l’exil forcé\, les crises économiques et écologiques dans ces régions\, tout en soulignant les luttes actuelles pour l’émancipation.
URL:https://centenaire.fondation-frantzfanon.com/evenement/conference-fanon-et-les-territoires-colonises-de-la-republique-francaise/
LOCATION:Assemblée nationale\, 33 quai d'orsay\, Paris\, 75007\, France
END:VEVENT
BEGIN:VEVENT
DTSTART;TZID=Europe/Paris:20250519T080000
DTEND;TZID=Europe/Paris:20250523T170000
DTSTAMP:20260423T210332
CREATED:20250330T201444Z
LAST-MODIFIED:20250330T201444Z
UID:10003322-1747641600-1748019600@centenaire.fondation-frantzfanon.com
SUMMARY:"Fanon dans notre Amérique"
DESCRIPTION:Le Centre latino-américain et des Caraïbes\, Romulo Gallegos -CELARG présente « Fanon dans notre Amérique ».
URL:https://centenaire.fondation-frantzfanon.com/evenement/fanon-dans-notre-amerique/
LOCATION:Caracas\, Caracas\, Venezuela
END:VEVENT
END:VCALENDAR