BEGIN:VCALENDAR
VERSION:2.0
PRODID:-//Centenaire Frantz Fanon - ECPv6.10.0//NONSGML v1.0//EN
CALSCALE:GREGORIAN
METHOD:PUBLISH
X-WR-CALNAME:Centenaire Frantz Fanon
X-ORIGINAL-URL:https://centenaire.fondation-frantzfanon.com
X-WR-CALDESC:Évènements pour Centenaire Frantz Fanon
REFRESH-INTERVAL;VALUE=DURATION:PT1H
X-Robots-Tag:noindex
X-PUBLISHED-TTL:PT1H
BEGIN:VTIMEZONE
TZID:Europe/Paris
BEGIN:DAYLIGHT
TZOFFSETFROM:+0100
TZOFFSETTO:+0200
TZNAME:CEST
DTSTART:20250330T010000
END:DAYLIGHT
BEGIN:STANDARD
TZOFFSETFROM:+0200
TZOFFSETTO:+0100
TZNAME:CET
DTSTART:20251026T010000
END:STANDARD
END:VTIMEZONE
BEGIN:VEVENT
DTSTART;TZID=Europe/Paris:20251003T080000
DTEND;TZID=Europe/Paris:20251004T170000
DTSTAMP:20260424T054119
CREATED:20250719T131057Z
LAST-MODIFIED:20250719T131421Z
UID:10003328-1759478400-1759597200@centenaire.fondation-frantzfanon.com
SUMMARY:Centenaire Frantz Fanon Vienne
DESCRIPTION:Organisé par l’Institute for Politics and Culture.
URL:https://centenaire.fondation-frantzfanon.com/evenement/centenaire-frantz-fanon-vienne/
END:VEVENT
BEGIN:VEVENT
DTSTART;TZID=Europe/Paris:20251008T190000
DTEND;TZID=Europe/Paris:20251008T210000
DTSTAMP:20260424T054119
CREATED:20250929T123452Z
LAST-MODIFIED:20250929T123452Z
UID:10003331-1759950000-1759957200@centenaire.fondation-frantzfanon.com
SUMMARY:Frantz Fanon - Décolonialisme - Hier et aujourd’hui
DESCRIPTION:
URL:https://centenaire.fondation-frantzfanon.com/evenement/frantz-fanon-decolonialisme-hier-et-aujourdhui/
END:VEVENT
BEGIN:VEVENT
DTSTART;TZID=Europe/Paris:20251020T220000
DTEND;TZID=Europe/Paris:20251021T000000
DTSTAMP:20260424T054119
CREATED:20251020T165221Z
LAST-MODIFIED:20251020T165221Z
UID:10003332-1760997600-1761004800@centenaire.fondation-frantzfanon.com
SUMMARY:Empire\, solidarity & academia at the cross roads
DESCRIPTION:
URL:https://centenaire.fondation-frantzfanon.com/evenement/empire-solidarity-academia-at-the-cross-roads/
LOCATION:UC Berkeley
END:VEVENT
END:VCALENDAR