BEGIN:VCALENDAR
VERSION:2.0
PRODID:-//Centenaire Frantz Fanon - ECPv6.10.0//NONSGML v1.0//EN
CALSCALE:GREGORIAN
METHOD:PUBLISH
X-WR-CALNAME:Centenaire Frantz Fanon
X-ORIGINAL-URL:https://centenaire.fondation-frantzfanon.com
X-WR-CALDESC:Évènements pour Centenaire Frantz Fanon
REFRESH-INTERVAL;VALUE=DURATION:PT1H
X-Robots-Tag:noindex
X-PUBLISHED-TTL:PT1H
BEGIN:VTIMEZONE
TZID:Europe/Paris
BEGIN:DAYLIGHT
TZOFFSETFROM:+0100
TZOFFSETTO:+0200
TZNAME:CEST
DTSTART:20250330T010000
END:DAYLIGHT
BEGIN:STANDARD
TZOFFSETFROM:+0200
TZOFFSETTO:+0100
TZNAME:CET
DTSTART:20251026T010000
END:STANDARD
END:VTIMEZONE
BEGIN:VEVENT
DTSTART;TZID=Europe/Paris:20250628T080000
DTEND;TZID=Europe/Paris:20250630T170000
DTSTAMP:20260424T114650
CREATED:20250330T201843Z
LAST-MODIFIED:20250330T201843Z
UID:10003323-1751097600-1751302800@centenaire.fondation-frantzfanon.com
SUMMARY:"Fanon\, 100 ans et le fascisme international"
DESCRIPTION:co-organisé avec le Centre Lusta Mundi et la Fondation Frantz Fanon. « Fanon\, 100 ans et le fascisme international »
URL:https://centenaire.fondation-frantzfanon.com/evenement/fanon-100-ans-et-le-fascisme-international/
LOCATION:Naples\, Naples\, Italy
END:VEVENT
BEGIN:VEVENT
DTSTART;TZID=Europe/Paris:20250626T163000
DTEND;TZID=Europe/Paris:20250626T190000
DTSTAMP:20260424T114650
CREATED:20250619T111935Z
LAST-MODIFIED:20250619T112545Z
UID:10003326-1750955400-1750964400@centenaire.fondation-frantzfanon.com
SUMMARY:« L'œuvre de Frantz Fanon comme généalogie du présent »
DESCRIPTION:Mireille Fanon Mendés-France en dialogue avec Miguel Mellino \nAlessia J. Magliacane et Gina Annunziata interviennent \nEn collaboration avec Juju Entertainment par Alessia J. Magliacane \n 
URL:https://centenaire.fondation-frantzfanon.com/evenement/lopera-di-frantz-fanon-come-genealogia-del-presente/
LOCATION:Naples\, Naples\, Italy
END:VEVENT
END:VCALENDAR