BEGIN:VCALENDAR
VERSION:2.0
PRODID:-//Centenaire Frantz Fanon - ECPv6.10.0//NONSGML v1.0//EN
CALSCALE:GREGORIAN
METHOD:PUBLISH
X-WR-CALNAME:Centenaire Frantz Fanon
X-ORIGINAL-URL:https://centenaire.fondation-frantzfanon.com
X-WR-CALDESC:Évènements pour Centenaire Frantz Fanon
REFRESH-INTERVAL;VALUE=DURATION:PT1H
X-Robots-Tag:noindex
X-PUBLISHED-TTL:PT1H
BEGIN:VTIMEZONE
TZID:Europe/Paris
BEGIN:DAYLIGHT
TZOFFSETFROM:+0100
TZOFFSETTO:+0200
TZNAME:CEST
DTSTART:20250330T010000
END:DAYLIGHT
BEGIN:STANDARD
TZOFFSETFROM:+0200
TZOFFSETTO:+0100
TZNAME:CET
DTSTART:20251026T010000
END:STANDARD
END:VTIMEZONE
BEGIN:VEVENT
DTSTART;VALUE=DATE:20250501
DTEND;VALUE=DATE:20250601
DTSTAMP:20260424T062737
CREATED:20241204T090659Z
LAST-MODIFIED:20241221T151954Z
UID:10000016-1746057600-1748735999@centenaire.fondation-frantzfanon.com
SUMMARY:Conférence auto-gérée: Interculturalité au Chili
DESCRIPTION:Conférence auto-gérée: Interculturalité au Chili avec des étudiants du doctorat inter culturel.
URL:https://centenaire.fondation-frantzfanon.com/evenement/evenement-frantz-fanon-au-chili/
LOCATION:Temuco\, Temuco\, Chile
END:VEVENT
END:VCALENDAR