BEGIN:VCALENDAR
VERSION:2.0
PRODID:-//Centenaire Frantz Fanon - ECPv6.10.0//NONSGML v1.0//EN
CALSCALE:GREGORIAN
METHOD:PUBLISH
X-WR-CALNAME:Centenaire Frantz Fanon
X-ORIGINAL-URL:https://centenaire.fondation-frantzfanon.com
X-WR-CALDESC:Évènements pour Centenaire Frantz Fanon
REFRESH-INTERVAL;VALUE=DURATION:PT1H
X-Robots-Tag:noindex
X-PUBLISHED-TTL:PT1H
BEGIN:VTIMEZONE
TZID:Europe/Paris
BEGIN:DAYLIGHT
TZOFFSETFROM:+0100
TZOFFSETTO:+0200
TZNAME:CEST
DTSTART:20250330T010000
END:DAYLIGHT
BEGIN:STANDARD
TZOFFSETFROM:+0200
TZOFFSETTO:+0100
TZNAME:CET
DTSTART:20251026T010000
END:STANDARD
END:VTIMEZONE
BEGIN:VEVENT
DTSTART;TZID=Europe/Paris:20250715T080000
DTEND;TZID=Europe/Paris:20250721T170000
DTSTAMP:20260424T063742
CREATED:20241202T110731Z
LAST-MODIFIED:20250330T202712Z
UID:10000012-1752566400-1753117200@centenaire.fondation-frantzfanon.com
SUMMARY:Conférence : Anticolonialisme\, Décolonialité du Pouvoir dans l'espace Caribéen
DESCRIPTION:La pensée décoloniale de Frantz Fanon à l’épreuve de la colonisation française en Martinique\, Guadeloupe\, la Guyane et la Kanaky »\, Plénière organisée par la Fondation Frantz Fanon dans le cadre de la conférence annuelle de l’Association caribéenne de Philosophie  » Fanon a cent ans » \nRéalisée dans le cadre de l’Association caribéenne de philosophie -CPA- qui depuis quelques années vise à réfléchir sur « Changer la géographie de la raison »
URL:https://centenaire.fondation-frantzfanon.com/evenement/conference-fanon-a-cent-ans/
LOCATION:Le François\, Le François\, 97210\, Martinique
END:VEVENT
END:VCALENDAR