BEGIN:VCALENDAR
VERSION:2.0
PRODID:-//Centenaire Frantz Fanon - ECPv6.10.0//NONSGML v1.0//EN
CALSCALE:GREGORIAN
METHOD:PUBLISH
X-ORIGINAL-URL:https://centenaire.fondation-frantzfanon.com
X-WR-CALDESC:Évènements pour Centenaire Frantz Fanon
REFRESH-INTERVAL;VALUE=DURATION:PT1H
X-Robots-Tag:noindex
X-PUBLISHED-TTL:PT1H
BEGIN:VTIMEZONE
TZID:Europe/Paris
BEGIN:DAYLIGHT
TZOFFSETFROM:+0100
TZOFFSETTO:+0200
TZNAME:CEST
DTSTART:20250330T010000
END:DAYLIGHT
BEGIN:STANDARD
TZOFFSETFROM:+0200
TZOFFSETTO:+0100
TZNAME:CET
DTSTART:20251026T010000
END:STANDARD
END:VTIMEZONE
BEGIN:VEVENT
DTSTART;VALUE=DATE:20250429
DTEND;VALUE=DATE:20250508
DTSTAMP:20260424T053418
CREATED:20241108T110517Z
LAST-MODIFIED:20250422T103956Z
UID:10000003-1745884800-1746662399@centenaire.fondation-frantzfanon.com
SUMMARY:Conférence auto-gérée : Honoring our revolutionaries!
DESCRIPTION:Rôle de la violence dans les processus de libération des peuples colonisés\, en s’appuyant sur les réflexions de Fanon. Mise en lumière\, entre autres du contexte palestinien\, en examinant comment la résistance contre l’occupation peut s’inscrire dans les dynamiques plus larges de la décolonisation et des luttes anti-impérialistes.
URL:https://centenaire.fondation-frantzfanon.com/evenement/violence-revolutionnaire-et-decolonisation/
LOCATION:Cuny University\, New York\, United States
ATTACH;FMTTYPE=image/jpeg:https://centenaire.fondation-frantzfanon.com/wp-content/uploads/2024/11/Honoring_Our_Revolutionaries.jpg
END:VEVENT
END:VCALENDAR